BEGIN:VCALENDAR
PRODID:-//TERMINALFOUR//SITEMANAGER V7.3//EN
VERSION:2.0
BEGIN:VEVENT
DTSTART:20250904T092500
LOCATION:Braamfontein Campus East Wartenweiler Library, Wits 
DESCRIPTION:This colloquium considers competing and complementary approaches to race and nationality in South African higher education.A collaboration between the Internationalization and Strategic Partnerships Office, the Wits Centre for Diversity Studies, the Wits-Oxford Mobility Governance Lab, the NRF-DST SARChI Chair in Mobility and the Politics of Difference and the NRF-DST SARChI Chair in Critical Diversity Studies.
<br />This colloquium considers competing and complementary approaches to race and nationality in South African higher education, at a moment that marks ten years since the RhodesMustFall and FeesMustFall protests as well as being characterised by the increasing visibility and weaponisation of national and international xenophobia. 
<br />It poses this question as a reflection not just on the Fallist movements, but on a three-decade long history of contentious post-Apartheid efforts to align the country&rsquo;s universities with broader commitments to equity and progressive social change. Current attacks on academic institutions represent them as sites of illicit patronage of apparently unqualified foreigners, while foreign academics themselves navigate bureaucratic mazes and hostile atmospheres. 
<br />What can these contradictions tell us about the processes of transformation and change that were meant to be invigorated by #RMF? The colloquium also considers future institutional trajectories in an era of resource scarcity, persistent domestic and global inequality, and rampant populist anti-intellectualism. At its heart, it asks how universities, and the scholars and activists housed within them, can respond to stormy political waters and to potentially competing visions of justice and transformation. 
<br />What might it mean to be an African university in South Africa, and what will it take to realise that vision?&nbsp;
<br />Programme&nbsp;
<br />Introduction &nbsp;
<br />
<br />Lorena Nunez Carrasco, Wits &nbsp;
<br />
<br />Transformation after the &lsquo;decolonial turn&rsquo; (chaired by Nicky Falkof)&nbsp;
<br />
<br />Ahmed Veriava, Wits&nbsp;
<br />Srila Roy, Wits&nbsp;
<br />Salim Vally, UJ&nbsp;
<br />Mxolisi Makhubo, UJ&nbsp;
<br />Fikile Masikane, UP&nbsp;
<br />
<br />The future of the South/African university (chaired by Loren Landau)&nbsp;
<br />
<br />William Mpofu, WiCDS &nbsp;
<br />Ylva Rodny-Gumede, UJ&nbsp;
<br />Samia Chasi, Wits &nbsp;
<br />Sarah Mosetsa, HSRC&nbsp;
<br />
X-ALT-DESC;FMTTYPE=text/html:<strong>This colloquium considers competing and complementary approaches to race and nationality in South African higher education.</strong><p><em><span data-contrast="auto">A collaboration between the Internationalization and Strategic Partnerships Office, the Wits Centre for Diversity Studies, the Wits-Oxford Mobility Governance Lab, the NRF-DST SARChI Chair in Mobility and the Politics of Difference and the NRF-DST SARChI Chair in Critical Diversity Studies.</span></em></p>
<br /><p><span data-contrast="auto">This colloquium considers competing and complementary approaches to race and nationality in South African higher education, at a moment that marks ten years since the RhodesMustFall and FeesMustFall protests as well as being characterised by the increasing visibility and weaponisation of national and international xenophobia. </span></p>
<br /><p><span data-contrast="auto">It poses this question as a reflection not just on the Fallist movements, but on a three-decade long history of contentious post-Apartheid efforts to align the country&rsquo;s universities with broader commitments to equity and progressive social change. Current attacks on academic institutions represent them as sites of illicit patronage of apparently unqualified foreigners, while foreign academics themselves navigate bureaucratic mazes and hostile atmospheres. </span></p>
<br /><p><span data-contrast="auto">What can these contradictions tell us about the processes of transformation and change that were meant to be invigorated by #RMF? The colloquium also considers future institutional trajectories in an era of resource scarcity, persistent domestic and global inequality, and rampant populist anti-intellectualism. At its heart, it asks how universities, and the scholars and activists housed within them, can respond to stormy political waters and to potentially competing visions of justice and transformation. </span></p>
<br /><p><span data-contrast="auto">What might it mean to be an African university in South Africa, and what will it take to realise that vision?</span><span data-ccp-props="{&quot;201341983&quot;:0,&quot;335559739&quot;:0,&quot;335559740&quot;:240}">&nbsp;</span></p>
<br /><h4>Programme<span data-ccp-props="{&quot;201341983&quot;:0,&quot;335559739&quot;:0,&quot;335559740&quot;:240}">&nbsp;</span></h4>
<br /><h5><span data-contrast="auto">Introduction</span><span data-contrast="auto"> </span><span data-ccp-props="{&quot;201341983&quot;:0,&quot;335559739&quot;:0,&quot;335559740&quot;:240}">&nbsp;</span></h5>
<br /><ul>
<br /><li><span data-contrast="auto">Lorena Nunez Carrasco, Wits </span><span data-ccp-props="{&quot;201341983&quot;:0,&quot;335559739&quot;:0,&quot;335559740&quot;:240}">&nbsp;</span></li>
<br /></ul>
<br /><p><span data-contrast="auto">Transformation after the &lsquo;decolonial turn&rsquo;</span><span data-contrast="auto"> (chaired by Nicky Falkof)</span><span data-ccp-props="{&quot;201341983&quot;:0,&quot;335559739&quot;:0,&quot;335559740&quot;:240}">&nbsp;</span></p>
<br /><ul>
<br /><li><span data-contrast="auto">Ahmed Veriava, Wits</span><span data-ccp-props="{&quot;201341983&quot;:0,&quot;335559739&quot;:0,&quot;335559740&quot;:240}">&nbsp;</span></li>
<br /><li><span data-contrast="auto">Srila Roy, Wits</span><span data-ccp-props="{&quot;201341983&quot;:0,&quot;335559739&quot;:0,&quot;335559740&quot;:240}">&nbsp;</span></li>
<br /><li><span data-contrast="auto">Salim Vally, UJ</span><span data-ccp-props="{&quot;201341983&quot;:0,&quot;335559739&quot;:0,&quot;335559740&quot;:240}">&nbsp;</span></li>
<br /><li><span data-contrast="auto">Mxolisi Makhubo, UJ</span><span data-ccp-props="{&quot;201341983&quot;:0,&quot;335559739&quot;:0,&quot;335559740&quot;:240}">&nbsp;</span></li>
<br /><li><span data-contrast="auto">Fikile Masikane, UP</span><span data-ccp-props="{&quot;201341983&quot;:0,&quot;335559739&quot;:0,&quot;335559740&quot;:240}">&nbsp;</span></li>
<br /></ul>
<br /><p><span data-contrast="auto">The future of the South/African university </span><span data-contrast="auto">(chaired by Loren Landau)</span><span data-ccp-props="{&quot;201341983&quot;:0,&quot;335559739&quot;:0,&quot;335559740&quot;:240}">&nbsp;</span></p>
<br /><ul>
<br /><li><span data-contrast="auto">William Mpofu, WiCDS </span><span data-ccp-props="{&quot;201341983&quot;:0,&quot;335559739&quot;:0,&quot;335559740&quot;:240}">&nbsp;</span></li>
<br /><li><span data-contrast="auto">Ylva Rodny-Gumede, UJ</span><span data-ccp-props="{&quot;201341983&quot;:0,&quot;335559739&quot;:0,&quot;335559740&quot;:240}">&nbsp;</span></li>
<br /><li><span data-contrast="auto">Samia Chasi, Wits </span><span data-ccp-props="{&quot;201341983&quot;:0,&quot;335559739&quot;:0,&quot;335559740&quot;:240}">&nbsp;</span></li>
<br /><li><span data-contrast="auto">Sarah Mosetsa, HSRC</span><span data-ccp-props="{&quot;201341983&quot;:0,&quot;335559739&quot;:0,&quot;335559740&quot;:240}">&nbsp;</span></li>
<br /></ul>
SUMMARY:The Borders of Transformation: The Continent and the South African University 
END:VEVENT
END:VCALENDAR
