BEGIN:VCALENDAR
PRODID:-//TERMINALFOUR//SITEMANAGER V7.3//EN
VERSION:2.0
BEGIN:VEVENT
DTSTART:20260904T080700
LOCATION: 
DESCRIPTION:"Reading the Future, Ukufunda Ikusasa, Ho Bala Bokamoso: Literacies for Transformative Education," The Literacy Association of South Africa (LITASA) is celebrating a milestone, our&nbsp;21st Annual Conference,&nbsp;and we&nbsp;couldn't&nbsp;be more excited to host it right here at the Wits School of Education from&nbsp;4 to 6 September 2026.&nbsp;
<br />This year's theme,&nbsp;"Reading the Future,&nbsp;Ukufunda&nbsp;Ikusasa, Ho Bala Bokamoso: Literacies for Transformative Education,"&nbsp;invites us to reimagine literacy's role in building&nbsp;equitable, multilingual, and socially just futures.&nbsp;In a moment marked by challenging PIRLS findings, widening inequalities, and rapidly advancing AI technologies, literacy&nbsp;remains&nbsp;a powerful tool for transformation.&nbsp;
<br />We're&nbsp;calling for contributions that explore innovative research, classroom practice, community work, and policy directions across all career stages and contexts&mdash;from early years foundations to higher education, from assessment practices to community literacies, and from technological innovation to multilingual pedagogies.&nbsp;Whether&nbsp;you're&nbsp;interested in how AI is reshaping literacy education, how home languages can strengthen early learning, or how universities can cultivate epistemic justice, there's space for your voice.&nbsp;
<br />The deadline for abstract submissions is 30 April 2026&nbsp;-&nbsp;that's&nbsp;soon!&nbsp;We welcome submissions in all twelve official South African languages, and presentation formats include individual papers, workshops, posters, panels, and community project&nbsp;showcases.&nbsp;
<br />Visit&nbsp;https://www.litasa.org.za/conference2026&nbsp;to&nbsp;submit&nbsp;your&nbsp;abstract, or&nbsp;contact us at&nbsp;info@litasa.org.za&nbsp;for more information.&nbsp;
X-ALT-DESC;FMTTYPE=text/html:<strong>"Reading the Future, Ukufunda Ikusasa, Ho Bala Bokamoso: Literacies for Transformative Education," </strong><p>The Literacy Association of South Africa (LITASA) is celebrating a milestone, our&nbsp;21st Annual Conference,&nbsp;and we&nbsp;couldn't&nbsp;be more excited to host it right here at the Wits School of Education from&nbsp;4 to 6 September 2026.&nbsp;</p>
<br /><p>This year's theme,&nbsp;"Reading the Future,&nbsp;Ukufunda&nbsp;Ikusasa, Ho Bala Bokamoso: Literacies for Transformative Education,"&nbsp;invites us to reimagine literacy's role in building&nbsp;equitable, multilingual, and socially just futures.&nbsp;In a moment marked by challenging PIRLS findings, widening inequalities, and rapidly advancing AI technologies, literacy&nbsp;remains&nbsp;a powerful tool for transformation.&nbsp;</p>
<br /><p>We're&nbsp;calling for contributions that explore innovative research, classroom practice, community work, and policy directions across all career stages and contexts&mdash;from early years foundations to higher education, from assessment practices to community literacies, and from technological innovation to multilingual pedagogies.&nbsp;Whether&nbsp;you're&nbsp;interested in how AI is reshaping literacy education, how home languages can strengthen early learning, or how universities can cultivate epistemic justice, there's space for your voice.&nbsp;</p>
<br /><p><strong>The deadline for abstract submissions is 30 April 2026&nbsp;</strong>-&nbsp;that's&nbsp;soon!&nbsp;We welcome submissions in all twelve official South African languages, and presentation formats include individual papers, workshops, posters, panels, and community project&nbsp;showcases.&nbsp;</p>
<br /><p>Visit&nbsp;<a href="https://www.litasa.org.za/conference2026">https://www.litasa.org.za/conference2026</a>&nbsp;to&nbsp;submit&nbsp;your&nbsp;abstract, or&nbsp;contact us at&nbsp;<a href="mailto:info@litasa.org.za">info@litasa.org.za</a>&nbsp;for more information.&nbsp;</p>
SUMMARY:LITASA Turns 21: Join Us in Reading the Future 
END:VEVENT
END:VCALENDAR
