BEGIN:VCALENDAR
PRODID:-//TERMINALFOUR//SITEMANAGER V7.3//EN
VERSION:2.0
BEGIN:VEVENT
DTSTART:20260410T060000
LOCATION: Wits Rugby Stadium
DESCRIPTION:Join us as we rally behind the Blues as they kick off their first home game of the Varsity Shield campaign on home turf.FNB Wits Rugby has secured their spot in the Varsity Shield final after a dominant victory against FNB Madibaz last Friday.
<br />Let&rsquo;s show up and make this final count, Witsies! FNB Wits faces FNB WSU on home ground.&nbsp;
X-ALT-DESC;FMTTYPE=text/html:<strong>Join us as we rally behind the Blues as they kick off their first home game of the Varsity Shield campaign on home turf.</strong><p>FNB Wits Rugby has secured their spot in the Varsity Shield final after a dominant victory against FNB Madibaz last Friday.</p>
<br /><p>Let&rsquo;s show up and make this final count, Witsies! FNB Wits faces FNB WSU on home ground.&nbsp;</p>
SUMMARY:Varsity Shield 2026 | FNB Wits vs FNB WSU
END:VEVENT
END:VCALENDAR
