BEGIN:VCALENDAR
PRODID:-//TERMINALFOUR//SITEMANAGER V7.3//EN
VERSION:2.0
BEGIN:VEVENT
DTSTART:20260328T110000
LOCATION:Braamfontein Campus West 
DESCRIPTION:IN CONVERSATION. Double vision: the anteater and the signs of all times by Prof Pippa Skotnes and Prof Isabel HofmeyrWe are delighted to welcome Pippa Skotnes and Isabel Hofmeyr to lead conversations focussing on the Double Vision exhibit at Origins Centre, the Bleek and Lloyd archive, storytelling and the formation of stories and narratives. Within these conversations we welcome interactions and engagements with the audience. Through this event, we also launch the revamped &lsquo;Double Vision&rsquo; exhibit at Origins, created by Pippa Skotnes and Malcolm Payne. The exhibit received new life thanks to the Digital Fabric and 24/7 Architects teams, with support from the Wits Science Faculty and an exciting artwork donation by Pippa Skotnes.
<br />Professor Pippa Skotnes is a Professor Emeritus at the University of Cape Town (UCT). She&nbsp;is an artist, curator, scholar, and former director of the Centre for Curating the Archive, at Michaelis School of Fine Art at the University of Cape Town. Isabel Hofmeyr is Professor Emeritus at the University of the Witwatersrand currently based at WISER, and was Global Distinguished Professor at New York University from 2013 to 2022.
<br />Tickets: R40/R70; on&nbsp;webtickets&nbsp;or at the door. Light refreshments will be served.
X-ALT-DESC;FMTTYPE=text/html:<strong>IN CONVERSATION. Double vision: the anteater and the signs of all times by Prof Pippa Skotnes and Prof Isabel Hofmeyr</strong><p>We are delighted to welcome Pippa Skotnes and Isabel Hofmeyr to lead conversations focussing on the Double Vision exhibit at Origins Centre, the Bleek and Lloyd archive, storytelling and the formation of stories and narratives. Within these conversations we welcome interactions and engagements with the audience. Through this event, we also launch the revamped &lsquo;Double Vision&rsquo; exhibit at Origins, created by Pippa Skotnes and Malcolm Payne. The exhibit received new life thanks to the Digital Fabric and 24/7 Architects teams, with support from the Wits Science Faculty and an exciting artwork donation by Pippa Skotnes.</p>
<br /><p>Professor Pippa Skotnes is a Professor Emeritus at the University of Cape Town (UCT). She&nbsp;is an artist, curator, scholar, and former director of the Centre for Curating the Archive, at Michaelis School of Fine Art at the University of Cape Town. Isabel Hofmeyr is Professor Emeritus at the University of the Witwatersrand currently based at WISER, and was Global Distinguished Professor at New York University from 2013 to 2022.</p>
<br /><p>Tickets: R40/R70; on&nbsp;<a href="https://www.webtickets.co.za/performance.aspx?itemid=1590533495">webtickets</a>&nbsp;or at the door. Light refreshments will be served.</p>
SUMMARY:Double vision: the anteater and the signs of all times by Prof Pippa Skotnes and Prof Isabel Hofmeyr
END:VEVENT
END:VCALENDAR
