BEGIN:VCALENDAR
PRODID:-//TERMINALFOUR//SITEMANAGER V7.3//EN
VERSION:2.0
BEGIN:VEVENT
DTSTART:20260326T130000
LOCATION: NCB 221
DESCRIPTION:Join our next Brown Bag Lunch presented by Prof. Malcom Keswell.We study the behavioural and psycho-social impacts of a novel empowerment programme targeted to young people living in distressed neighbourhoods in South Africa. By the end of the programme, participants that are initially randomly assigned to the programme are more altruistic, less risk averse, less pessimistic, and less likely to be at risk for depression. We then investigate whether these changes serve as effect modifiers for social capital outcomes; specifically, for trust and trustworthiness. We find no evidence that risk aversion explains the impact of the programme on trust but robust evidence of a belief updating channel that works through trustworthiness. These findings have implications for targeted interventions in low trust societies. We discuss some of these implications.
X-ALT-DESC;FMTTYPE=text/html:<strong>Join our next Brown Bag Lunch presented by Prof. Malcom Keswell.</strong><p>We study the behavioural and psycho-social impacts of a novel empowerment programme targeted to young people living in distressed neighbourhoods in South Africa. By the end of the programme, participants that are initially randomly assigned to the programme are more altruistic, less risk averse, less pessimistic, and less likely to be at risk for depression. We then investigate whether these changes serve as effect modifiers for social capital outcomes; specifically, for trust and trustworthiness. We find no evidence that risk aversion explains the impact of the programme on trust but robust evidence of a belief updating channel that works through trustworthiness. These findings have implications for targeted interventions in low trust societies. We discuss some of these implications.</p>
SUMMARY:Activating social capital among young people in South Africa 
END:VEVENT
END:VCALENDAR
