BEGIN:VCALENDAR
PRODID:-//TERMINALFOUR//SITEMANAGER V7.3//EN
VERSION:2.0
BEGIN:VEVENT
DTSTART:20260409T190000
LOCATION: 
DESCRIPTION:This talk seeks to raise awareness of the historical significance of an association between people and Equus asinus that is now some 7000 years old.Donkeys are the only mammal to have been uniquely domesticated within Africa and, like African archaeology in general, they have frequently been neglected by most archaeologists and archaeozoologists.&nbsp;
<br />Considering the evidence for donkey domestication in Africa, it illustrates the historical importance of donkeys through three case studies: their association with kings and other elites in the Bronze Age of the Near East; their role in the economy and armies of the Roman world; and their significance in funding Spain&rsquo;s colonial empire. 
<br />Brought to you in collaboration with Origins Centre and the Archaeological Society Northern Branch (the talk will take place after the Arch Soc AGM ending 18:45).&nbsp;
<br />Tea, coffee and biscuits will be served.
<br />&nbsp;
X-ALT-DESC;FMTTYPE=text/html:<strong>This talk seeks to raise awareness of the historical significance of an association between people and Equus asinus that is now some 7000 years old.</strong><p>Donkeys are the only mammal to have been uniquely domesticated within Africa and, like African archaeology in general, they have frequently been neglected by most archaeologists and archaeozoologists.&nbsp;</p>
<br /><p>Considering the evidence for donkey domestication in Africa, it illustrates the historical importance of donkeys through three case studies: their association with kings and other elites in the Bronze Age of the Near East; their role in the economy and armies of the Roman world; and their significance in funding Spain&rsquo;s colonial empire. </p>
<br /><p>Brought to you in collaboration with Origins Centre and the Archaeological Society Northern Branch (the talk will take place after the Arch Soc AGM ending 18:45).&nbsp;</p>
<br /><p>Tea, coffee and biscuits will be served.</p>
<br /><p>&nbsp;</p>
SUMMARY:PUBLIC LECTURE. Remembering Eeyore: Archaeological perspectives on the donkey in human history
END:VEVENT
END:VCALENDAR
