BEGIN:VCALENDAR
PRODID:-//TERMINALFOUR//SITEMANAGER V7.3//EN
VERSION:2.0
BEGIN:VEVENT
DTSTART:20260324T150000
LOCATION:Parktown Management Campus PVT Resource Centre, Ground Floor, PVT Building, 29 Princess of Wales Terrace, Parktown.
DESCRIPTION:Prof Sandy (Alexander) DouglasSandy trained clinically as a pharmaceutical physician. He leads a research group at the University of Oxford with interests in pre-clinical &amp; early clinical development of novel vaccines, including against rabies &amp; Epstein Barr virus, and in vaccine manufacturing. The seminar will discuss challenges and successesin sustaining these capabilities in an academic environment, drawing on examples including the University's COVID vaccine programme.
X-ALT-DESC;FMTTYPE=text/html:<strong>Prof Sandy (Alexander) Douglas</strong><p>Sandy trained clinically as a pharmaceutical physician. He leads a research group at the University of Oxford with interests in pre-clinical &amp; early clinical development of novel vaccines, including against rabies &amp; Epstein Barr virus, and in vaccine manufacturing. The seminar will discuss challenges and successes<br />in sustaining these capabilities in an academic environment, drawing on examples including the University's COVID vaccine programme.</p>
SUMMARY: &quot;Sustainable &amp; flexible GMP manufacturing capability in an academic environment&quot; 
END:VEVENT
END:VCALENDAR
