BEGIN:VCALENDAR
PRODID:-//TERMINALFOUR//SITEMANAGER V7.3//EN
VERSION:2.0
BEGIN:VEVENT
DTSTART:20260505T090000
LOCATION: 
DESCRIPTION:In this 2-day workshop we will use the methods of conversation analysis (CA) to examine real-life interactions in different health and social care settings.We will explore how applied CA can be used to develop interventions that address everyday problems arising in talk between professionals and patients/clients. Practical data sessions utilising naturally occurring data will be run throughout the workshop, providing opportunities for participants to identify key interactional practices, develop their analytical skills, and to consider how CA may be utilised within their own areas of clinical and/or academic interest.&nbsp;
X-ALT-DESC;FMTTYPE=text/html:<strong>In this 2-day workshop we will use the methods of conversation analysis (CA) to examine real-life interactions in different health and social care settings.</strong><p>We will explore how applied CA can be used to develop interventions that address everyday problems arising in talk between professionals and patients/clients. Practical data sessions utilising naturally occurring data will be run throughout the workshop, providing opportunities for participants to identify key interactional practices, develop their analytical skills, and to consider how CA may be utilised within their own areas of clinical and/or academic interest.&nbsp;</p>
SUMMARY:Workshop: Applying Conversation Analysis in Health and Social Care
END:VEVENT
END:VCALENDAR
