BEGIN:VCALENDAR
PRODID:-//TERMINALFOUR//SITEMANAGER V7.3//EN
VERSION:2.0
BEGIN:VEVENT
DTSTART:20220728T080000
LOCATION:Braamfontein Campus East Wits Multipurpose Hall
DESCRIPTION:Witsies, put your degree to work!Join the Graduate Recruitment Programme and your potential employers to explore possible job and/or career opportunities. Be exposed to industry experts and employers from a variety of industries; a chance for you to put your degree to work!
<br />The careers fair series is offered by the&nbsp;, Counselling and Careers Development Unit.
X-ALT-DESC;FMTTYPE=text/html:<strong>Witsies, put your degree to work!</strong><p>Join the Graduate Recruitment Programme and your potential employers to explore possible job and/or career opportunities. Be exposed to industry experts and employers from a variety of industries; a chance for you to put your degree to work!</p>
<br /><p><em>The careers fair series is offered by the<span>&nbsp;</span><a href="https://www.wits.ac.za/ccdu/graduate-recruitment-programme/" target="null">Graduate Recruitment Programme (GRP)</a>, Counselling and Careers Development Unit.</em></p>
SUMMARY:General All Degrees Careers Fair
END:VEVENT
END:VCALENDAR
